BEGIN:VCALENDAR
VERSION:2.0
PRODID:-//WSLH Proficiency Testing - ECPv6.15.20//NONSGML v1.0//EN
CALSCALE:GREGORIAN
METHOD:PUBLISH
X-WR-CALNAME:WSLH Proficiency Testing
X-ORIGINAL-URL:https://wslhpt.org
X-WR-CALDESC:Events for WSLH Proficiency Testing
REFRESH-INTERVAL;VALUE=DURATION:PT1H
X-Robots-Tag:noindex
X-PUBLISHED-TTL:PT1H
BEGIN:VTIMEZONE
TZID:UTC
BEGIN:STANDARD
TZOFFSETFROM:+0000
TZOFFSETTO:+0000
TZNAME:UTC
DTSTART:20210101T000000
END:STANDARD
END:VTIMEZONE
BEGIN:VEVENT
DTSTART;VALUE=DATE:20220404
DTEND;VALUE=DATE:20220406
DTSTAMP:20260423T032411
CREATED:20210910T180821Z
LAST-MODIFIED:20211129T202433Z
UID:36893-1649030400-1649203199@wslhpt.org
SUMMARY:Misc QA POC1 Shipped
DESCRIPTION:Misc QA POC1 shipped on April 4-5\, 2022\nQuestions? Contact WSLH PT Customer Service at ptservice@slh.wisc.edu\n\nDownload the entire 2022 Shipping Schedule (PDF) here
URL:https://wslhpt.org/event/misc-qa-poc-1-shipped/
LOCATION:DC
CATEGORIES:Shipping Schedule,WSLH Proficiency Testing
END:VEVENT
BEGIN:VEVENT
DTSTART;VALUE=DATE:20220418
DTEND;VALUE=DATE:20220419
DTSTAMP:20260423T032411
CREATED:20210910T180945Z
LAST-MODIFIED:20211206T215303Z
UID:36895-1650240000-1650326399@wslhpt.org
SUMMARY:Frozen Micro1\, Micro QA1 Shipped
DESCRIPTION:Frozen Micro1\, Micro QA1 shipped on April 18\, 2022\nQuestions? Contact WSLH PT Customer Service at ptservice@slh.wisc.edu\n\nDownload the entire 2022 Shipping Schedule (PDF) here
URL:https://wslhpt.org/event/frozen-micro-1-micro-qa-1/
LOCATION:DC
CATEGORIES:Shipping Schedule,WSLH Proficiency Testing
END:VEVENT
BEGIN:VEVENT
DTSTART;TZID=UTC:20220420T080000
DTEND;TZID=UTC:20220421T160000
DTSTAMP:20260423T032411
CREATED:20220413T202659Z
LAST-MODIFIED:20220413T203427Z
UID:39961-1650441600-1650556800@wslhpt.org
SUMMARY:ASCLS-WI CONFERENCE
DESCRIPTION:Stop by WSLH Proficiency Testing’s booth at the Exhibit Hall and say hello. We’d love to visit with you!
URL:https://wslhpt.org/event/ascls-wi-conference/
LOCATION:Madison Marriott West\, 1313 John Q Hammons Drive\, Middleton\, WI\, United States
CATEGORIES:Conference Schedule
END:VEVENT
BEGIN:VEVENT
DTSTART;VALUE=DATE:20220425
DTEND;VALUE=DATE:20220426
DTSTAMP:20260423T032411
CREATED:20210910T181152Z
LAST-MODIFIED:20211206T215241Z
UID:36897-1650844800-1650931199@wslhpt.org
SUMMARY:Chem/Endo/Tx2\, Fetal Hb1 Shipped
DESCRIPTION:Chem/Endo/Tx2\, Fetal Hb1 shipped on April 25\, 2022\nQuestions? Contact WSLH PT Customer Service at ptservice@slh.wisc.edu\n\nDownload the entire 2022 Shipping Schedule (PDF) here
URL:https://wslhpt.org/event/chem-endo-tx-2-fetal-hb-1/
LOCATION:DC
CATEGORIES:Shipping Schedule,WSLH Proficiency Testing
END:VEVENT
END:VCALENDAR