BEGIN:VCALENDAR
VERSION:2.0
PRODID:-//WSLH Proficiency Testing - ECPv6.15.20//NONSGML v1.0//EN
CALSCALE:GREGORIAN
METHOD:PUBLISH
X-WR-CALNAME:WSLH Proficiency Testing
X-ORIGINAL-URL:https://wslhpt.org
X-WR-CALDESC:Events for WSLH Proficiency Testing
REFRESH-INTERVAL;VALUE=DURATION:PT1H
X-Robots-Tag:noindex
X-PUBLISHED-TTL:PT1H
BEGIN:VTIMEZONE
TZID:UTC
BEGIN:STANDARD
TZOFFSETFROM:+0000
TZOFFSETTO:+0000
TZNAME:UTC
DTSTART:20220101T000000
END:STANDARD
END:VTIMEZONE
BEGIN:VEVENT
DTSTART;VALUE=DATE:20230206
DTEND;VALUE=DATE:20230208
DTSTAMP:20260423T113558
CREATED:20220801T152218Z
LAST-MODIFIED:20220801T152218Z
UID:40330-1675641600-1675814399@wslhpt.org
SUMMARY:Bacti_Viral 1 Shipment
DESCRIPTION:Bacti_Viral 1 to be shipped on February 6-7\, 2023\nQuestions? Contact WSLH PT Customer Service at ptservice@slh.wisc.edu\n\nDownload the entire 2023 Shipping Schedule (PDF) here
URL:https://wslhpt.org/event/bacti_viral-1-shipment/
LOCATION:WSLH Proficiency Testing\, 2601 Agriculture Drive\, Madison\, WI\, 53718\, United States
CATEGORIES:Shipping Schedule
ORGANIZER;CN="WSLH Proficiency Testing":MAILTO:ptservice@slh.wisc.edu
END:VEVENT
BEGIN:VEVENT
DTSTART;VALUE=DATE:20230206
DTEND;VALUE=DATE:20230208
DTSTAMP:20260423T113558
CREATED:20220801T152341Z
LAST-MODIFIED:20220801T152341Z
UID:40332-1675641600-1675814399@wslhpt.org
SUMMARY:SPMicro 1 Shipment
DESCRIPTION:SPMicro 1 to be shipped on February 6-7\, 2023\nQuestions? Contact WSLH PT Customer Service at ptservice@slh.wisc.edu\n\nDownload the entire 2023 Shipping Schedule (PDF) here
URL:https://wslhpt.org/event/spmicro-1-shipment/
LOCATION:WSLH Proficiency Testing\, 2601 Agriculture Drive\, Madison\, WI\, 53718\, United States
CATEGORIES:Shipping Schedule
ORGANIZER;CN="WSLH Proficiency Testing":MAILTO:ptservice@slh.wisc.edu
END:VEVENT
END:VCALENDAR