BEGIN:VCALENDAR
VERSION:2.0
PRODID:-//WSLH Proficiency Testing - ECPv6.15.20//NONSGML v1.0//EN
CALSCALE:GREGORIAN
METHOD:PUBLISH
X-ORIGINAL-URL:https://wslhpt.org
X-WR-CALDESC:Events for WSLH Proficiency Testing
REFRESH-INTERVAL;VALUE=DURATION:PT1H
X-Robots-Tag:noindex
X-PUBLISHED-TTL:PT1H
BEGIN:VTIMEZONE
TZID:UTC
BEGIN:STANDARD
TZOFFSETFROM:+0000
TZOFFSETTO:+0000
TZNAME:UTC
DTSTART:20210101T000000
END:STANDARD
END:VTIMEZONE
BEGIN:VEVENT
DTSTART;VALUE=DATE:20221017
DTEND;VALUE=DATE:20221018
DTSTAMP:20260419T191905
CREATED:20210910T185617Z
LAST-MODIFIED:20220622T184330Z
UID:36933-1665964800-1666051199@wslhpt.org
SUMMARY:Misc QA POC2\, Bioterrorism Prep2 Shipment
DESCRIPTION:Misc QA POC2\, Bioterrorism Prep2 to be shipped on October 17\, 2022\nQuestions? Contact WSLH PT Customer Service at ptservice@slh.wisc.edu\n\nDownload the entire 2022 Shipping Schedule (PDF) here
URL:https://wslhpt.org/event/misc-qa-poc-2-bioterrorism-prep-2/
LOCATION:DC
CATEGORIES:Shipping Schedule,WSLH Proficiency Testing
END:VEVENT
END:VCALENDAR