BEGIN:VCALENDAR
VERSION:2.0
PRODID:-//WSLH Proficiency Testing - ECPv6.15.20//NONSGML v1.0//EN
CALSCALE:GREGORIAN
METHOD:PUBLISH
X-ORIGINAL-URL:https://wslhpt.org
X-WR-CALDESC:Events for WSLH Proficiency Testing
REFRESH-INTERVAL;VALUE=DURATION:PT1H
X-Robots-Tag:noindex
X-PUBLISHED-TTL:PT1H
BEGIN:VTIMEZONE
TZID:UTC
BEGIN:STANDARD
TZOFFSETFROM:+0000
TZOFFSETTO:+0000
TZNAME:UTC
DTSTART:20210101T000000
END:STANDARD
END:VTIMEZONE
BEGIN:VEVENT
DTSTART;VALUE=DATE:20221010
DTEND;VALUE=DATE:20221011
DTSTAMP:20260419T174909
CREATED:20210910T185440Z
LAST-MODIFIED:20220622T184403Z
UID:36931-1665360000-1665446399@wslhpt.org
SUMMARY:Blood Bank3\, Micro QA2 Shipment
DESCRIPTION:Blood Bank3\, Micro QA2 to be shipped on October 10\, 2022\nQuestions? Contact WSLH PT Customer Service at ptservice@slh.wisc.edu\n\nDownload the entire 2022 Shipping Schedule (PDF) here
URL:https://wslhpt.org/event/blood-bank-3-micro-qa-2-shipped/
LOCATION:DC
CATEGORIES:Shipping Schedule,WSLH Proficiency Testing
END:VEVENT
END:VCALENDAR