BEGIN:VCALENDAR
VERSION:2.0
PRODID:-//WSLH Proficiency Testing - ECPv6.15.20//NONSGML v1.0//EN
CALSCALE:GREGORIAN
METHOD:PUBLISH
X-ORIGINAL-URL:https://wslhpt.org
X-WR-CALDESC:Events for WSLH Proficiency Testing
REFRESH-INTERVAL;VALUE=DURATION:PT1H
X-Robots-Tag:noindex
X-PUBLISHED-TTL:PT1H
BEGIN:VTIMEZONE
TZID:UTC
BEGIN:STANDARD
TZOFFSETFROM:+0000
TZOFFSETTO:+0000
TZNAME:UTC
DTSTART:20210101T000000
END:STANDARD
END:VTIMEZONE
BEGIN:VEVENT
DTSTART;VALUE=DATE:20220228
DTEND;VALUE=DATE:20220301
DTSTAMP:20260419T143046
CREATED:20210910T175124Z
LAST-MODIFIED:20211129T202307Z
UID:36883-1646006400-1646092799@wslhpt.org
SUMMARY:Blood Bank1\, Blood Gas1 Shipped
DESCRIPTION:Blood Bank1\, Blood Gas1 shipped on February 28\, 2022\nQuestions? Contact WSLH PT Customer Service at ptservice@slh.wisc.edu\n\nDownload the entire 2022 Shipping Schedule (PDF) here
URL:https://wslhpt.org/event/blood-bank-1-blood-gas-1-shipped/
LOCATION:DC
CATEGORIES:Shipping Schedule,WSLH Proficiency Testing
END:VEVENT
END:VCALENDAR